BEGIN:VCALENDAR
VERSION:2.0
PRODID:-//Squarespace Inc/Squarespace 6//v6//EN
BEGIN:VEVENT
UID:5c10ab9f4ae23730c6cf1b45@squarespace.com
DTSTAMP:20181212T065945Z
DTSTART:20181212T160000Z
DTEND:20181212T170000Z
SUMMARY:Funding to help highlight Indigenous history at Lockhart 
END:VEVENT
END:VCALENDAR
