BEGIN:VCALENDAR
VERSION:2.0
PRODID:-//Squarespace Inc/Squarespace 6//v6//EN
BEGIN:VEVENT
UID:5c1744196d2a733821a288a7@squarespace.com
DTSTAMP:20181218T022319Z
DTSTART:20181216T000000Z
DTEND:20181216T010000Z
SUMMARY:Celebrating 'something magical' about horses with RDA 
END:VEVENT
END:VCALENDAR
