BEGIN:VCALENDAR
VERSION:2.0
PRODID:-//Squarespace Inc/Squarespace 6//v6//EN
BEGIN:VEVENT
UID:5c185a238a922d56142d23cf@squarespace.com
DTSTAMP:20181218T024923Z
DTSTART:20181215T150000Z
DTEND:20181215T160000Z
SUMMARY:Grant funding helps round up a big vision in Tarcutta 
END:VEVENT
END:VCALENDAR
