BEGIN:VCALENDAR
VERSION:2.0
PRODID:-//Squarespace Inc/Squarespace 6//v6//EN
BEGIN:VEVENT
UID:5c512b6221c67ca4788365cc@squarespace.com
DTSTAMP:20190130T044721Z
DTSTART:20181220T000000Z
DTEND:20181220T010000Z
SUMMARY:Awarding top students at Batlow
END:VEVENT
END:VCALENDAR
