BEGIN:VCALENDAR
VERSION:2.0
PRODID:-//Squarespace Inc/Squarespace 6//v6//EN
BEGIN:VEVENT
UID:5c1b3163c2241b96d9b28811@squarespace.com
DTSTAMP:20181220T061427Z
DTSTART:20181220T183000Z
DTEND:20181220T193000Z
SUMMARY:$330\,000 to support community projects across Wagga Wagga
END:VEVENT
END:VCALENDAR
