BEGIN:VCALENDAR
VERSION:2.0
PRODID:-//Squarespace Inc/Squarespace 6//v6//EN
BEGIN:VEVENT
UID:5c204918cd83668367cfb964@squarespace.com
DTSTAMP:20190102T025845Z
DTSTART:20181221T150000Z
DTEND:20181221T160000Z
SUMMARY:Launching Wagga Base Hospital's Stage Three redevelopment 
END:VEVENT
END:VCALENDAR
